BEGIN:VCALENDAR
PRODID:-//github.com/rianjs/ical.net//NONSGML ical.net 4.0//EN
VERSION:2.0
BEGIN:VTIMEZONE
TZID:Pacific Standard Time
X-LIC-LOCATION:America/Los_Angeles
BEGIN:STANDARD
DTSTART:20241103T020000
RRULE:FREQ=YEARLY;BYDAY=1SU;BYMONTH=11
TZNAME:PST
TZOFFSETFROM:-0700
TZOFFSETTO:-0800
END:STANDARD
BEGIN:DAYLIGHT
DTSTART:20250309T020000
RRULE:FREQ=YEARLY;BYDAY=2SU;BYMONTH=3
TZNAME:PDT
TZOFFSETFROM:-0800
TZOFFSETTO:-0700
END:DAYLIGHT
END:VTIMEZONE
BEGIN:VEVENT
DESCRIPTION:Train. Grow. Elevate.
DTEND;TZID=Pacific Standard Time:20260428T140000
DTSTAMP:20260419T182739Z
DTSTART;TZID=Pacific Standard Time:20260428T100000
LOCATION:Dry Canyon Apartments 2960 Northwest Northwest Way Redmond\, OR 9
 7756 United States
ORGANIZER;CN=;SENT-BY="mailto:":
SEQUENCE:0
SUMMARY:MFNW: Central Oregon Luncheon: Leasing & Resident Engagement
UID:e92178f5-f526-412a-ad7e-2a1c50cf6789
END:VEVENT
END:VCALENDAR
