BEGIN:VCALENDAR
PRODID:-//github.com/rianjs/ical.net//NONSGML ical.net 4.0//EN
VERSION:2.0
BEGIN:VTIMEZONE
TZID:Pacific Standard Time
X-LIC-LOCATION:America/Los_Angeles
BEGIN:STANDARD
DTSTART:20241103T020000
RRULE:FREQ=YEARLY;BYDAY=1SU;BYMONTH=11
TZNAME:PST
TZOFFSETFROM:-0700
TZOFFSETTO:-0800
END:STANDARD
BEGIN:DAYLIGHT
DTSTART:20250309T020000
RRULE:FREQ=YEARLY;BYDAY=2SU;BYMONTH=3
TZNAME:PDT
TZOFFSETFROM:-0800
TZOFFSETTO:-0700
END:DAYLIGHT
END:VTIMEZONE
BEGIN:VEVENT
DESCRIPTION:Give Back. Get Grounded. Grow Community.
DTEND;TZID=Pacific Standard Time:20260527T150000
DTSTAMP:20260419T182802Z
DTSTART;TZID=Pacific Standard Time:20260527T090000
LOCATION:Central Oregon Veteran's Ranch 65920 Southwest 61st Street Bend\,
  OR 97701 United States
ORGANIZER;CN=;SENT-BY="mailto:":
SEQUENCE:0
SUMMARY:MFNW: Lend a Hand: Volunteer Workday + Community at COVR
UID:8fb2bf5e-1fe2-4d02-a5d0-748dc35ec807
END:VEVENT
END:VCALENDAR
