BEGIN:VCALENDAR
PRODID:-//github.com/rianjs/ical.net//NONSGML ical.net 4.0//EN
VERSION:2.0
BEGIN:VTIMEZONE
TZID:Pacific Standard Time
X-LIC-LOCATION:America/Los_Angeles
BEGIN:STANDARD
DTSTART:20241103T020000
RRULE:FREQ=YEARLY;BYDAY=1SU;BYMONTH=11
TZNAME:PST
TZOFFSETFROM:-0700
TZOFFSETTO:-0800
END:STANDARD
BEGIN:DAYLIGHT
DTSTART:20250309T020000
RRULE:FREQ=YEARLY;BYDAY=2SU;BYMONTH=3
TZNAME:PDT
TZOFFSETFROM:-0800
TZOFFSETTO:-0700
END:DAYLIGHT
END:VTIMEZONE
BEGIN:VEVENT
DTEND;TZID=Pacific Standard Time:20260922T180000
DTSTAMP:20260419T193310Z
DTSTART;TZID=Pacific Standard Time:20260922T153000
LOCATION:K1 Speed 20795 Northeast High Desert Lane Bend\, OR 97701-8742 Un
 ited States
ORGANIZER;CN=;SENT-BY="mailto:":
SEQUENCE:0
SUMMARY:MFNW: Central Oregon Go Kart Bash 2026
UID:52210fe5-119b-4d9a-8518-3c07c92aef08
END:VEVENT
END:VCALENDAR
