BEGIN:VCALENDAR
PRODID:-//github.com/rianjs/ical.net//NONSGML ical.net 4.0//EN
VERSION:2.0
BEGIN:VTIMEZONE
TZID:Pacific Standard Time
X-LIC-LOCATION:America/Los_Angeles
BEGIN:STANDARD
DTSTART:20241103T020000
RRULE:FREQ=YEARLY;BYDAY=1SU;BYMONTH=11
TZNAME:PST
TZOFFSETFROM:-0700
TZOFFSETTO:-0800
END:STANDARD
BEGIN:DAYLIGHT
DTSTART:20250309T020000
RRULE:FREQ=YEARLY;BYDAY=2SU;BYMONTH=3
TZNAME:PDT
TZOFFSETFROM:-0800
TZOFFSETTO:-0700
END:DAYLIGHT
END:VTIMEZONE
BEGIN:VEVENT
DESCRIPTION:Come join us for fun\, food\, drinks and raffle prizes!
DTEND;TZID=Pacific Standard Time:20260805T190000
DTSTAMP:20260420T012629Z
DTSTART;TZID=Pacific Standard Time:20260805T160000
LOCATION:Riverfront Park 230 Front St SE Salem\, OR 97302 United States
ORGANIZER;CN=;SENT-BY="mailto:":
SEQUENCE:0
SUMMARY:MFNW: MWV Member BBQ 2026
UID:dd9ecbcb-d810-4329-b468-3fc4ffeafc34
END:VEVENT
END:VCALENDAR
