BEGIN:VCALENDAR
PRODID:-//github.com/rianjs/ical.net//NONSGML ical.net 4.0//EN
VERSION:2.0
BEGIN:VTIMEZONE
TZID:Pacific Standard Time
X-LIC-LOCATION:America/Los_Angeles
BEGIN:STANDARD
DTSTART:20241103T020000
RRULE:FREQ=YEARLY;BYDAY=1SU;BYMONTH=11
TZNAME:PST
TZOFFSETFROM:-0700
TZOFFSETTO:-0800
END:STANDARD
BEGIN:DAYLIGHT
DTSTART:20250309T020000
RRULE:FREQ=YEARLY;BYDAY=2SU;BYMONTH=3
TZNAME:PDT
TZOFFSETFROM:-0800
TZOFFSETTO:-0700
END:DAYLIGHT
END:VTIMEZONE
BEGIN:VEVENT
DESCRIPTION:Efficient Systems\, Happier Residents-Reliable HVAC Solutions 
 for Every Unit
DTEND;TZID=Pacific Standard Time:20260625T163000
DTSTAMP:20260420T163545Z
DTSTART;TZID=Pacific Standard Time:20260625T083000
LOCATION:Finnmark 14340 Southeast Industrial Way Clackamas\, OR 97015 Unit
 ed States
ORGANIZER;CN=;SENT-BY="mailto:":
SEQUENCE:0
SUMMARY:MFNW: CAMT: Air Conditioning
UID:473ac48d-56cd-4113-8908-cd541e24fc76
END:VEVENT
END:VCALENDAR
